<?xml version="1.0"?>
<metadata xml:lang="en"><Esri><CreaDate>20220223</CreaDate><CreaTime>11271100</CreaTime><ArcGISFormat>1.0</ArcGISFormat><SyncOnce>FALSE</SyncOnce><DataProperties><itemProps><imsContentType Sync="TRUE">002</imsContentType><itemName Sync="TRUE">RSR_All.tif</itemName><itemLocation><linkage Sync="TRUE">file://C:\Users\Russell_Gibson\AppData\Local\ESRI\ArcGISPro\Staging\SharingProcesses\0055\MoBI - Range-Size Rarity\commondata\raster_data\RSR_All.tif</linkage><protocol Sync="TRUE">Local Area Network</protocol></itemLocation><nativeExtBox><westBL Sync="TRUE">-2493045.000000</westBL><eastBL Sync="TRUE">2343105.000000</eastBL><southBL Sync="TRUE">176655.000000</southBL><northBL Sync="TRUE">3310995.000000</northBL><exTypeCode Sync="TRUE">1</exTypeCode></nativeExtBox></itemProps><coordRef><type Sync="TRUE">Projected</type><geogcsn Sync="TRUE">GCS_North_American_1983</geogcsn><csUnits Sync="TRUE">Linear Unit: Meter (1.000000)</csUnits><projcsn Sync="TRUE">Albers_Conic_Equal_Area</projcsn><peXml Sync="TRUE">&lt;ProjectedCoordinateSystem xsi:type='typens:ProjectedCoordinateSystem' xmlns:xsi='http://www.w3.org/2001/XMLSchema-instance' xmlns:xs='http://www.w3.org/2001/XMLSchema' xmlns:typens='http://www.esri.com/schemas/ArcGIS/2.9.0'&gt;&lt;WKT&gt;PROJCS[&amp;quot;Albers_Conic_Equal_Area&amp;quot;,GEOGCS[&amp;quot;GCS_North_American_1983&amp;quot;,DATUM[&amp;quot;D_North_American_1983&amp;quot;,SPHEROID[&amp;quot;GRS_1980&amp;quot;,6378137.0,298.257222101]],PRIMEM[&amp;quot;Greenwich&amp;quot;,0.0],UNIT[&amp;quot;Degree&amp;quot;,0.0174532925199433]],PROJECTION[&amp;quot;Albers&amp;quot;],PARAMETER[&amp;quot;false_easting&amp;quot;,0.0],PARAMETER[&amp;quot;false_northing&amp;quot;,0.0],PARAMETER[&amp;quot;central_meridian&amp;quot;,-96.0],PARAMETER[&amp;quot;standard_parallel_1&amp;quot;,29.5],PARAMETER[&amp;quot;standard_parallel_2&amp;quot;,45.5],PARAMETER[&amp;quot;latitude_of_origin&amp;quot;,23.0],UNIT[&amp;quot;Meter&amp;quot;,1.0]]&lt;/WKT&gt;&lt;XOrigin&gt;-16901100&lt;/XOrigin&gt;&lt;YOrigin&gt;-6972200&lt;/YOrigin&gt;&lt;XYScale&gt;266467840.99085236&lt;/XYScale&gt;&lt;ZOrigin&gt;-100000&lt;/ZOrigin&gt;&lt;ZScale&gt;10000&lt;/ZScale&gt;&lt;MOrigin&gt;-100000&lt;/MOrigin&gt;&lt;MScale&gt;10000&lt;/MScale&gt;&lt;XYTolerance&gt;0.001&lt;/XYTolerance&gt;&lt;ZTolerance&gt;0.001&lt;/ZTolerance&gt;&lt;MTolerance&gt;0.001&lt;/MTolerance&gt;&lt;HighPrecision&gt;true&lt;/HighPrecision&gt;&lt;/ProjectedCoordinateSystem&gt;</peXml></coordRef><RasterProperties><General><PixelDepth Sync="TRUE">32</PixelDepth><HasColormap Sync="TRUE">FALSE</HasColormap><CompressionType Sync="TRUE">None</CompressionType><NumBands Sync="TRUE">1</NumBands><Format Sync="TRUE">TIFF</Format><HasPyramids Sync="TRUE">TRUE</HasPyramids><SourceType Sync="TRUE">continuous</SourceType><PixelType Sync="TRUE">floating point</PixelType><NoDataValue Sync="TRUE">-3.4028231e+38</NoDataValue></General></RasterProperties><copyHistory><copy source="H:\MoBI_Final_Results\Final_Tiffs_April2021\RSR_All.tif" dest="\\MoBI01\G$\ellie\Deliveries\NYT\MoBI_SpatialData\AggregatedProducts\TIFs\RSR_All.tif" date="20220223" time="11271100"></copy></copyHistory><lineage><Process ToolSource="c:\program files\arcgis\pro\Resources\ArcToolbox\Toolboxes\Data Management Tools.tbx\CopyMultiple" Date="20220223" Time="112713">CopyMultiple "H:\MoBI_Final_Results\Final_Tiffs_April2021\RSR_All.tif raster_file_general;H:\MoBI_Final_Results\Final_Tiffs_April2021\RSR_AquaticInverts.tif raster_file_general;H:\MoBI_Final_Results\Final_Tiffs_April2021\RSR_Plants.tif raster_file_general;H:\MoBI_Final_Results\Final_Tiffs_April2021\RSR_PollinatorInverts.tif raster_file_general;H:\MoBI_Final_Results\Final_Tiffs_April2021\RSR_Vertebrates.tif raster_file_general;H:\MoBI_Final_Results\Final_Tiffs_April2021\SpeciesRichness_All.tif raster_file_general;H:\MoBI_Final_Results\Final_Tiffs_April2021\SpeciesRichness_AquaticInverts.tif raster_file_general;H:\MoBI_Final_Results\Final_Tiffs_April2021\SpeciesRichness_Plants.tif raster_file_general;H:\MoBI_Final_Results\Final_Tiffs_April2021\SpeciesRichness_PollinatorInverts.tif raster_file_general;H:\MoBI_Final_Results\Final_Tiffs_April2021\SpeciesRichness_Vertebrates.tif raster_file_general" G:\ellie\Deliveries\NYT\MoBI_SpatialData\AggregatedProducts\TIFs RSR_All;RSR_AquaticInverts;RSR_Plants;RSR_PollinatorInverts;RSR_Vertebrates;SpeciesRichness_All;SpeciesRichness_AquaticInverts;SpeciesRichness_Plants;SpeciesRichness_PollinatorInverts;SpeciesRichness_Vertebrates "RSR_All.tif RasterDataset RSR_All.tif #;RSR_AquaticInverts.tif RasterDataset RSR_AquaticInverts.tif #;RSR_Plants.tif RasterDataset RSR_Plants.tif #;RSR_PollinatorInverts.tif RasterDataset RSR_PollinatorInverts.tif #;RSR_Vertebrates.tif RasterDataset RSR_Vertebrates.tif #;SpeciesRichness_All.tif RasterDataset SpeciesRichness_All.tif #;SpeciesRichness_AquaticInverts.tif RasterDataset SpeciesRichness_AquaticInverts.tif #;SpeciesRichness_Plants.tif RasterDataset SpeciesRichness_Plants.tif #;SpeciesRichness_PollinatorInverts.tif RasterDataset SpeciesRichness_PollinatorInverts.tif #;SpeciesRichness_Vertebrates.tif RasterDataset SpeciesRichness_Vertebrates.tif #"</Process><Process ToolSource="c:\program files\arcgis\pro\Resources\ArcToolbox\toolboxes\Data Management Tools.tbx\CopyRaster" Date="20220520" Time="164225">CopyRaster F:\Temp\AggregatedProducts\AggregatedProducts\TIFs\RSR_All.tif "C:\Users\Russell_Gibson\AppData\Local\ESRI\ArcGISPro\Staging\SharingProcesses\0055\MoBI - Range-Size Rarity\commondata\raster_data\RSR_All.tif" # # -3.402823e+38 NONE NONE # NONE NONE "TIFF format" NONE CURRENT_SLICE NO_TRANSPOSE</Process></lineage></DataProperties><scaleRange><minScale>150000000</minScale><maxScale>5000</maxScale></scaleRange><SyncDate>20220520</SyncDate><SyncTime>16422500</SyncTime><ModDate>20220520</ModDate><ModTime>16422500</ModTime></Esri><mdLang><languageCode value="eng" Sync="TRUE"/><countryCode value="USA" Sync="TRUE"/></mdLang><mdChar><CharSetCd value="004" Sync="TRUE"/></mdChar><mdHrLv><ScopeCd value="005" Sync="TRUE"/></mdHrLv><mdHrLvName Sync="TRUE">dataset</mdHrLvName><mdDateSt Sync="TRUE">20220520</mdDateSt><distInfo><distFormat><formatName Sync="TRUE">Raster Dataset</formatName></distFormat></distInfo><dataIdInfo><envirDesc Sync="TRUE">Microsoft Windows Server 2012 Version 6.2 (Build 9200) ; Esri ArcGIS 12.9.2.32739</envirDesc><dataLang><languageCode value="eng" Sync="TRUE"/><countryCode value="USA" Sync="TRUE"/></dataLang><idCitation><resTitle Sync="FALSE">Summed Range-Size Rarity for Imperiled Species</resTitle><presForm><PresFormCd value="005" Sync="TRUE"/></presForm></idCitation><spatRpType><SpatRepTypCd value="002" Sync="TRUE"/></spatRpType><dataExt><geoEle xmlns=""><GeoBndBox esriExtentType="search"><exTypeCode Sync="TRUE">1</exTypeCode><westBL Sync="TRUE">-130.237517</westBL><eastBL Sync="TRUE">-63.661978</eastBL><northBL Sync="TRUE">52.886467</northBL><southBL Sync="TRUE">21.736664</southBL></GeoBndBox></geoEle></dataExt><idPurp>The Map of Biodiversity Importance (MoBI) identifies areas of high importance for species conservation in the conterminous United States. Using habitat models for over 2,200 of the nation’s most imperiled species, and information on range size and degree of protection derived from those maps, we provide a series of raster maps that can help inform conservation efforts. This specific raster depicts summed range-size rarity for globally critically imperiled (G1), globally imperiled (G2), and ESA-listed (i.e., listed under the Endangered Species Act) threatened and endangered vertebrates, vascular plants, selected aquatic invertebrates (mussels and crayfish) and selected pollinators (bumblebees and butterflies and skippers). High values identify areas where range-restricted species are most likely to occur; the presence of multiple imperiled species contributes to higher scores.</idPurp><idAbs>&lt;DIV STYLE="text-align:Left;"&gt;&lt;DIV&gt;&lt;DIV&gt;&lt;P STYLE="margin:0 0 11 0;"&gt;&lt;SPAN&gt;&lt;SPAN&gt;The Map of Biodiversity Importance (MoBI) consists of a series of raster maps that combine habitat information for 2,216 imperiled species occurring in the conterminous United States, using weightings based on range size and degree of protection to identify areas of high importance for biodiversity conservation. Species included in the project are those which, as of September 2018, had a global conservation status of G1 (critical imperiled) or G2 (imperiled) or which are listed as threatened or endangered at the full species level under the United States Endangered Species Act. Taxonomic groups included in the project are vertebrates (birds, mammals, amphibians, reptiles, turtles, crocodilians, and freshwater and anadromous fishes), vascular plants, selected aquatic invertebrates (freshwater mussels and crayfish) and selected pollinators (bumblebees, butterflies, and skippers).&lt;/SPAN&gt;&lt;/SPAN&gt;&lt;/P&gt;&lt;P STYLE="margin:0 0 11 0;"&gt;&lt;SPAN&gt;&lt;SPAN&gt;This specific raster depicts summed range-size rarity for vertebrates, vascular plants, selected aquatic invertebrates (mussels and crayfish) and selected pollinators (bumblebees and butterflies and skippers) based on habitat data for 2216 species.&lt;/SPAN&gt;&lt;/SPAN&gt;&lt;/P&gt;&lt;P STYLE="margin:0 0 11 0;"&gt;&lt;SPAN&gt;&lt;SPAN&gt;NatureServe developed a habitat map for each species. Habitat maps for most species are model outputs generated using the random forest algorithm. Data inputs into the models include forty years of NatureServe Network element occurrence and observation data supplemented with records from USGS BISON and other sources and environmental predictors representing terrain, climate, land cover, soils, and hydrology. A national library of over 200 terrestrial and aquatic predictor variables supported the project. The resolution of modeling was 30m for most terrestrial species and 330m resolution for some wide-ranging species. Habitat models for aquatic species used a similar approach, but the medium resolution National Hydrography Dataset (NHD) was the modeling unit rather than a raster grid. If an existing, range-wide, and vetted model was easily obtainable for a species, we used that model instead of developing a new one. For species not amenable to inductive habitat modeling, we developed or obtained alternative habitat maps built using deductive approaches. We upscaled or otherwise converted habitat maps for all species to a 990-m raster to provide a consistent unit of measurement across species and avoid revealing the precise location of highly sensitive species. &lt;/SPAN&gt;&lt;/SPAN&gt;&lt;/P&gt;&lt;P STYLE="margin:0 0 11 0;"&gt;&lt;SPAN&gt;&lt;SPAN&gt;We calculated two values for each species using the habitat maps: range-size rarity and percent protected. Range-size rarity is the inverse of the total area mapped as habitat for the species and was calculated using the 990-m raster grid. Percent protected is the percentage of the total area mapped overlapping protected areas classified as Gap Status 1 or 2 in the PAD-US 2.0 database (USGS 2018; &lt;/SPAN&gt;&lt;/SPAN&gt;&lt;A href="https://www.sciencebase.gov/catalog/item/5b030c7ae4b0da30c1c1d6de" STYLE="text-decoration:underline;"&gt;&lt;SPAN STYLE="text-decoration:underline;"&gt;&lt;SPAN&gt;https://www.sciencebase.gov/catalog/item/5b030c7ae4b0da30c1c1d6de&lt;/SPAN&gt;&lt;/SPAN&gt;&lt;/A&gt;&lt;SPAN&gt;&lt;SPAN&gt; ) --i.e., those areas that are managed for biodiversity protection; it was calculated at the resolution of the source data.&lt;/SPAN&gt;&lt;/SPAN&gt;&lt;/P&gt;&lt;P STYLE="margin:0 0 11 0;"&gt;&lt;SPAN&gt;The MoBI dataset includes several different rasters: (1) Species richness rasters provide a simple count of the number of species with mapped habitat in each 990-m raster cell; higher values indicate where more imperiled species are likely to co-occur. (2) Range-size rarity (RSR) maps sum the range-size rarity scores of all species mapped as likely to occur in a cell; high values indicate the presence of habitat for one or more highly range-restricted species – i.e., concentrations of species with limited conservation opportunities. (3) Protection-weighted range-size rarity (PWRSR) rasters combine information on both range-size rarity and percent protected to identify locations with species that have limited conservation opportunities due to both restricted range size and falling outside of protected areas. Species-specific PWRSR scores are the product of range-size rarity and the percent of the range that is unprotected (1- percent protected). The MoBI dataset includes two versions of the PWRSR rasters: (3a) summed PWRSR, the sum of PWRSR values for all species with mapped habitat overlapping that cell, and (3b) maximum PWRSR, the highest PWRSR score for any species with mapped habitat overlapping the cell. To focus on the sites where protection action is most pressing, we clipped out the Gap 1 and Gap 2 protected areas from the protection-weighted range-size rarity maps. This particular raster represents (2) RSR for all species included in the MoBI project.&lt;/SPAN&gt;&lt;/P&gt;&lt;P STYLE="margin:0 0 11 0;"&gt;&lt;SPAN /&gt;&lt;SPAN&gt;&lt;SPAN&gt;April 2021 Release Note: These data were updated with improved data. 33 species were added to the aggregate result that were previously erroneously excluded. In addition, a minor issue with how the original data were snapped was fixed, ensuring that all species within all of the MOBI layers are aligned consistently, regardless of the layers to which a given species contributes. Results may thus differ somewhat from the February 2020 release.&lt;/SPAN&gt;&lt;/SPAN&gt;&lt;/P&gt;&lt;/DIV&gt;&lt;/DIV&gt;&lt;/DIV&gt;</idAbs><idCredit>NatureServe Network. April 2021.  The Map of Biodiversity Importance. Arlington, VA. U.S.A. </idCredit><searchKeys><keyword>Biodiversity</keyword><keyword>conservation</keyword><keyword>MoBI</keyword><keyword>range-size rarity</keyword><keyword>imperiled species</keyword><keyword>Endangered Species Act</keyword><keyword>United States</keyword></searchKeys><resConst><Consts><useLimit>&lt;DIV STYLE="text-align:Left;"&gt;&lt;DIV&gt;&lt;DIV&gt;&lt;P STYLE="margin:0 0 11 0;"&gt;&lt;SPAN&gt;&lt;SPAN&gt;NatureServe reserves all rights in all intellectual property provided.  Distribution of the data or any intellectual property in whole or in part, or any products derived from the data or any intellectual property for commercial purposes is strictly prohibited.  To see the full terms of use click &lt;/SPAN&gt;&lt;/SPAN&gt;&lt;A href="https://ago-item-storage.s3.us-east-1.amazonaws.com:443/8992236b63184422905ed208f050a12e/TOU_Mobi.pdf?X-Amz-Security-Token=IQoJb3JpZ2luX2VjECEaCXVzLWVhc3QtMSJFMEMCIHVvJopqDd%2FreStzIZ7WExeganvRyLbvG%2BmLRmzNoPUFAh9bonZ7cNsnm8vPAk9Ps6mR3yfAwZY1FwftR1uWSA2FKrQDCHoQABoMNjA0NzU4MTAyNjY1IgwcL6cjLNldcwVipKQqkQNzljbQ%2FnJEg9UyDnAeRPJW%2FKEOMLszTBInfOSADIFD%2FHJIAeX5d63QF%2F%2BZkFwCmnl3t9900oofNQaz%2F0gdangjg802WlG1Qa9xmERiEMHVHwYnoUx5zG5Lvn%2Be1lRsGxcfnN1g5vWvb1FCXT%2BsoxamppH3Cuu4xzOstESZQk%2FCR1yVhs6XDVuwzv7QOp4w5H7b5KgbpeYTvn89zBKAKi8GvQnDH%2FpisVblyOjwnfXDtlxFr8vU%2BvChBegvwSpaoeQKFtcxPwKXgMiBsKEDAvlxqSqSUCgQrjQVGexW0ybbyAcBq3AWGuSJXrrueLd5mxDWn%2F3BX%2FM4brsTT6ySSaYxun0waHJQGWlLwSmFUC93WDD57vwFvjzyymszMhA5LUNjg%2FAm4bE9Fx%2Fe1kgQK%2F9hocVg2oZfukE6kQnyUvntDkzGY1Rhx6%2BZXeN3Jk1%2BhVGCVc1%2FPDUxCPzrSMXhPXgA1TP7QSPViX5QBNNYNyJekyJQ8XJQdG9dgy14tejj05b0CdPpR7acNn8yZ%2FXJDGnGsDCDisKDBjrtAf8HpBPbU%2BNGmvwipuYBFjewDeKex%2FGIZpMUbUDOndaZZeKMzNdIQev4vGb5b7Vcv2AlBpi2qjVBsL9U%2BzaxQ1nzORf0w%2FybutSBSGtjKEhauuXx7NJGDM7McnZ3icuJqq1AGMwFiPW9INvO6lOZ6cSiTU0mfzyPms3HWFlmVI1mimvqB5ckF6iwOpOOVsuzXS5qJ%2Bxak2889PXzZ6OXzQ85a6ZdkHOLDtAzTp4bcTxB4rXSgObF%2BVavrIB2h8hTvtF9%2FcJyR%2F6eIwS3lES68iI2LgYolfqFXAecnQFQv1cOhfDyCXLpyvrtlPJlVw%3D%3D&amp;amp;X-Amz-Algorithm=AWS4-HMAC-SHA256&amp;amp;X-Amz-Date=20210409T181120Z&amp;amp;X-Amz-SignedHeaders=host&amp;amp;X-Amz-Expires=300&amp;amp;X-Amz-Credential=ASIAYZTTEKKEQD4PQTHT%2F20210409%2Fus-east-1%2Fs3%2Faws4_request&amp;amp;X-Amz-Signature=d403909f8241e226750a2f019c3c04c9d016acc068d286cbe5c613e16895d2cd" STYLE="text-decoration:underline;"&gt;&lt;SPAN STYLE="text-decoration:underline;"&gt;&lt;SPAN&gt;here&lt;/SPAN&gt;&lt;/SPAN&gt;&lt;/A&gt;&lt;SPAN&gt;.&lt;/SPAN&gt;&lt;/P&gt;&lt;/DIV&gt;&lt;/DIV&gt;&lt;/DIV&gt;</useLimit></Consts></resConst></dataIdInfo><spatRepInfo><Georect><cellGeo><CellGeoCd Sync="TRUE" value="002"/></cellGeo><numDims Sync="TRUE">2</numDims><tranParaAv Sync="TRUE">1</tranParaAv><chkPtAv Sync="TRUE">0</chkPtAv><cornerPts><pos Sync="TRUE">-2493045.000000 176655.000000</pos></cornerPts><cornerPts><pos Sync="TRUE">-2493045.000000 3310995.000000</pos></cornerPts><cornerPts><pos Sync="TRUE">2343105.000000 3310995.000000</pos></cornerPts><cornerPts><pos Sync="TRUE">2343105.000000 176655.000000</pos></cornerPts><centerPt><pos Sync="TRUE">-74970.000000 1743825.000000</pos></centerPt><axisDimension type="002"><dimSize Sync="TRUE">4885</dimSize><dimResol><value Sync="TRUE" uom="m">990.000000</value></dimResol></axisDimension><axisDimension type="001"><dimSize Sync="TRUE">3166</dimSize><dimResol><value Sync="TRUE" uom="m">990.000000</value></dimResol></axisDimension><ptInPixel><PixOrientCd Sync="TRUE" value="001"/></ptInPixel></Georect></spatRepInfo><refSysInfo><RefSystem><refSysID><identCode code="0" Sync="TRUE"/></refSysID></RefSystem></refSysInfo><contInfo><ImgDesc><contentTyp><ContentTypCd Sync="TRUE" value="001"/></contentTyp><covDim><Band><dimDescrp Sync="TRUE">Band_1</dimDescrp><maxVal Sync="TRUE">1.531777</maxVal><minVal Sync="TRUE">0.000000</minVal><bitsPerVal Sync="TRUE">32</bitsPerVal><valUnit><UOM type="length"/></valUnit></Band></covDim></ImgDesc></contInfo></metadata>
